BEGIN:VCALENDAR
VERSION:2.0
PRODID:-//Metro Events - ECPv5.3.2.1//NONSGML v1.0//EN
CALSCALE:GREGORIAN
METHOD:PUBLISH
X-WR-CALNAME:Metro Events
X-ORIGINAL-URL:https://metroevents.com
X-WR-CALDESC:Events for Metro Events
BEGIN:VTIMEZONE
TZID:UTC
BEGIN:STANDARD
TZOFFSETFROM:+0000
TZOFFSETTO:+0000
TZNAME:UTC
DTSTART:20220101T000000
END:STANDARD
END:VTIMEZONE
BEGIN:VEVENT
DTSTART;VALUE=DATE:20220502
DTEND;VALUE=DATE:20220505
DTSTAMP:20260425T121217
CREATED:20191001T005434Z
LAST-MODIFIED:20200626T171535Z
UID:1763-1651449600-1651708799@metroevents.com
SUMMARY:Emerald Princess
DESCRIPTION:
URL:https://metroevents.com/event/ruby-princess-23/
CATEGORIES:Ship Day - Pier 35
END:VEVENT
END:VCALENDAR