BEGIN:VCALENDAR
VERSION:2.0
PRODID:-//Metro Events - ECPv5.3.2.1//NONSGML v1.0//EN
CALSCALE:GREGORIAN
METHOD:PUBLISH
X-WR-CALNAME:Metro Events
X-ORIGINAL-URL:https://metroevents.com
X-WR-CALDESC:Events for Metro Events
BEGIN:VTIMEZONE
TZID:UTC
BEGIN:STANDARD
TZOFFSETFROM:+0000
TZOFFSETTO:+0000
TZNAME:UTC
DTSTART:20220101T000000
END:STANDARD
END:VTIMEZONE
BEGIN:VEVENT
DTSTART;VALUE=DATE:20220429
DTEND;VALUE=DATE:20220502
DTSTAMP:20260425T131708
CREATED:20191002T005531Z
LAST-MODIFIED:20200904T213707Z
UID:1788-1651190400-1651449599@metroevents.com
SUMMARY:REGATTA
DESCRIPTION:
URL:https://metroevents.com/event/regatta-4/
CATEGORIES:Ship Day - Pier 35
END:VEVENT
END:VCALENDAR