BEGIN:VCALENDAR
VERSION:2.0
PRODID:-//Metro Events - ECPv5.3.2.1//NONSGML v1.0//EN
CALSCALE:GREGORIAN
METHOD:PUBLISH
X-WR-CALNAME:Metro Events
X-ORIGINAL-URL:https://metroevents.com
X-WR-CALDESC:Events for Metro Events
BEGIN:VTIMEZONE
TZID:America/Los_Angeles
BEGIN:DAYLIGHT
TZOFFSETFROM:-0800
TZOFFSETTO:-0700
TZNAME:PDT
DTSTART:20230312T100000
END:DAYLIGHT
BEGIN:STANDARD
TZOFFSETFROM:-0700
TZOFFSETTO:-0800
TZNAME:PST
DTSTART:20231105T090000
END:STANDARD
END:VTIMEZONE
BEGIN:VEVENT
DTSTART;VALUE=DATE:20230429
DTEND;VALUE=DATE:20230504
DTSTAMP:20260420T213723
CREATED:20200713T171743Z
LAST-MODIFIED:20210310T194049Z
UID:2385-1682726400-1683158399@metroevents.com
SUMMARY:RUBY\, CARNIVAL\, NORWEGIAN
DESCRIPTION:
URL:https://metroevents.com/event/carnival-miracle-25/
CATEGORIES:Ship Day - Pier 27
END:VEVENT
BEGIN:VEVENT
DTSTART;VALUE=DATE:20230501
DTEND;VALUE=DATE:20230503
DTSTAMP:20260420T213723
CREATED:20210330T011624Z
LAST-MODIFIED:20210330T011624Z
UID:2912-1682899200-1683071999@metroevents.com
SUMMARY:CROWN PRINCESS
DESCRIPTION:
URL:https://metroevents.com/event/crown-princess-3/
CATEGORIES:Ship Day - Pier 27
END:VEVENT
END:VCALENDAR