BEGIN:VCALENDAR
VERSION:2.0
PRODID:-//Metro Events - ECPv5.3.2.1//NONSGML v1.0//EN
CALSCALE:GREGORIAN
METHOD:PUBLISH
X-WR-CALNAME:Metro Events
X-ORIGINAL-URL:https://metroevents.com
X-WR-CALDESC:Events for Metro Events
BEGIN:VTIMEZONE
TZID:America/Los_Angeles
BEGIN:DAYLIGHT
TZOFFSETFROM:-0800
TZOFFSETTO:-0700
TZNAME:PDT
DTSTART:20230312T100000
END:DAYLIGHT
BEGIN:STANDARD
TZOFFSETFROM:-0700
TZOFFSETTO:-0800
TZNAME:PST
DTSTART:20231105T090000
END:STANDARD
END:VTIMEZONE
BEGIN:VEVENT
DTSTART;VALUE=DATE:20230409
DTEND;VALUE=DATE:20230411
DTSTAMP:20260420T225241
CREATED:20200817T191932Z
LAST-MODIFIED:20210310T193243Z
UID:2525-1680998400-1681171199@metroevents.com
SUMMARY:DISCOVERY PRINCESS
DESCRIPTION:
URL:https://metroevents.com/event/viking-star/
CATEGORIES:Ship Day - Pier 27
END:VEVENT
END:VCALENDAR