BEGIN:VCALENDAR
VERSION:2.0
PRODID:-//Metro Events - ECPv5.3.2.1//NONSGML v1.0//EN
CALSCALE:GREGORIAN
METHOD:PUBLISH
X-WR-CALNAME:Metro Events
X-ORIGINAL-URL:https://metroevents.com
X-WR-CALDESC:Events for Metro Events
BEGIN:VTIMEZONE
TZID:America/Los_Angeles
BEGIN:DAYLIGHT
TZOFFSETFROM:-0800
TZOFFSETTO:-0700
TZNAME:PDT
DTSTART:20230312T100000
END:DAYLIGHT
BEGIN:STANDARD
TZOFFSETFROM:-0700
TZOFFSETTO:-0800
TZNAME:PST
DTSTART:20231105T090000
END:STANDARD
END:VTIMEZONE
BEGIN:VEVENT
DTSTART;VALUE=DATE:20230326
DTEND;VALUE=DATE:20230329
DTSTAMP:20260420T225248
CREATED:20201113T190652Z
LAST-MODIFIED:20210330T222950Z
UID:2637-1679788800-1680047999@metroevents.com
SUMMARY:RUBY\, DISCOVERY PRINCESS
DESCRIPTION:
URL:https://metroevents.com/event/discovery-princess-2/
CATEGORIES:Ship Day - Pier 27
END:VEVENT
END:VCALENDAR