BEGIN:VCALENDAR
VERSION:2.0
PRODID:-//Metro Events - ECPv5.3.2.1//NONSGML v1.0//EN
CALSCALE:GREGORIAN
METHOD:PUBLISH
X-WR-CALNAME:Metro Events
X-ORIGINAL-URL:https://metroevents.com
X-WR-CALDESC:Events for Metro Events
BEGIN:VTIMEZONE
TZID:UTC
BEGIN:STANDARD
TZOFFSETFROM:+0000
TZOFFSETTO:+0000
TZNAME:UTC
DTSTART:20220101T000000
END:STANDARD
END:VTIMEZONE
BEGIN:VEVENT
DTSTART;VALUE=DATE:20220503
DTEND;VALUE=DATE:20220504
DTSTAMP:20260421T123705
CREATED:20190718T020210Z
LAST-MODIFIED:20201009T165535Z
UID:1521-1651536000-1651622399@metroevents.com
SUMMARY:MAJESTIC Princess
DESCRIPTION:
URL:https://metroevents.com/event/royal-princess-class-5/
CATEGORIES:Ship Day - Pier 27
END:VEVENT
END:VCALENDAR