BEGIN:VCALENDAR
VERSION:2.0
PRODID:-//Metro Events - ECPv5.3.2.1//NONSGML v1.0//EN
CALSCALE:GREGORIAN
METHOD:PUBLISH
X-WR-CALNAME:Metro Events
X-ORIGINAL-URL:https://metroevents.com
X-WR-CALDESC:Events for Metro Events
BEGIN:VTIMEZONE
TZID:UTC
BEGIN:STANDARD
TZOFFSETFROM:+0000
TZOFFSETTO:+0000
TZNAME:UTC
DTSTART:20220101T000000
END:STANDARD
END:VTIMEZONE
BEGIN:VEVENT
DTSTART;VALUE=DATE:20220426
DTEND;VALUE=DATE:20220429
DTSTAMP:20260421T123425
CREATED:20190718T020048Z
LAST-MODIFIED:20201130T180315Z
UID:1519-1650931200-1651190399@metroevents.com
SUMMARY:SERENADE OF THE SEAS\, Carnival Miracle
DESCRIPTION:
URL:https://metroevents.com/event/carnival-miracle-23/
CATEGORIES:Ship Day - Pier 27
END:VEVENT
END:VCALENDAR