BEGIN:VCALENDAR
VERSION:2.0
PRODID:-//Metro Events - ECPv5.3.2.1//NONSGML v1.0//EN
CALSCALE:GREGORIAN
METHOD:PUBLISH
X-WR-CALNAME:Metro Events
X-ORIGINAL-URL:https://metroevents.com
X-WR-CALDESC:Events for Metro Events
BEGIN:VTIMEZONE
TZID:UTC
BEGIN:STANDARD
TZOFFSETFROM:+0000
TZOFFSETTO:+0000
TZNAME:UTC
DTSTART:20220101T000000
END:STANDARD
END:VTIMEZONE
BEGIN:VEVENT
DTSTART;VALUE=DATE:20220419
DTEND;VALUE=DATE:20220420
DTSTAMP:20260421T135144
CREATED:20190718T015838Z
LAST-MODIFIED:20200626T171322Z
UID:1517-1650326400-1650412799@metroevents.com
SUMMARY:Discovery Princess
DESCRIPTION:
URL:https://metroevents.com/event/royal-princess-class-4/
CATEGORIES:Ship Day - Pier 27
END:VEVENT
END:VCALENDAR