BEGIN:VCALENDAR
VERSION:2.0
PRODID:-//Metro Events - ECPv5.3.2.1//NONSGML v1.0//EN
CALSCALE:GREGORIAN
METHOD:PUBLISH
X-WR-CALNAME:Metro Events
X-ORIGINAL-URL:https://metroevents.com
X-WR-CALDESC:Events for Metro Events
BEGIN:VTIMEZONE
TZID:UTC
BEGIN:STANDARD
TZOFFSETFROM:+0000
TZOFFSETTO:+0000
TZNAME:UTC
DTSTART:20220101T000000
END:STANDARD
END:VTIMEZONE
BEGIN:VEVENT
DTSTART;VALUE=DATE:20220201
DTEND;VALUE=DATE:20220207
DTSTAMP:20260421T160613
CREATED:20191203T060122Z
LAST-MODIFIED:20191203T060122Z
UID:1886-1643673600-1644191999@metroevents.com
SUMMARY:ARTANIA + QUEEN VICTORIA
DESCRIPTION:
URL:https://metroevents.com/event/artania-queen-victoria/
CATEGORIES:Ship Day - Pier 27
END:VEVENT
END:VCALENDAR