BEGIN:VCALENDAR
VERSION:2.0
PRODID:-//Metro Events - ECPv5.3.2.1//NONSGML v1.0//EN
CALSCALE:GREGORIAN
METHOD:PUBLISH
X-WR-CALNAME:Metro Events
X-ORIGINAL-URL:https://metroevents.com
X-WR-CALDESC:Events for Metro Events
BEGIN:VTIMEZONE
TZID:America/Los_Angeles
BEGIN:DAYLIGHT
TZOFFSETFROM:-0800
TZOFFSETTO:-0700
TZNAME:PDT
DTSTART:20190310T100000
END:DAYLIGHT
BEGIN:STANDARD
TZOFFSETFROM:-0700
TZOFFSETTO:-0800
TZNAME:PST
DTSTART:20191103T090000
END:STANDARD
END:VTIMEZONE
BEGIN:VEVENT
DTSTART;VALUE=DATE:20190702
DTEND;VALUE=DATE:20190706
DTSTAMP:20260424T060524
CREATED:20190523T183435Z
LAST-MODIFIED:20190523T183435Z
UID:1294-1562025600-1562371199@metroevents.com
SUMMARY:Queen Elizabeth & Grand Princess
DESCRIPTION:
URL:https://metroevents.com/event/queen-elizabeth-grand-princess/
CATEGORIES:Ship Day - Pier 27
END:VEVENT
END:VCALENDAR