BEGIN:VCALENDAR
VERSION:2.0
PRODID:-//Metro Events - ECPv5.3.2.1//NONSGML v1.0//EN
CALSCALE:GREGORIAN
METHOD:PUBLISH
X-WR-CALNAME:Metro Events
X-ORIGINAL-URL:https://metroevents.com
X-WR-CALDESC:Events for Metro Events
BEGIN:VTIMEZONE
TZID:America/Los_Angeles
BEGIN:DAYLIGHT
TZOFFSETFROM:-0800
TZOFFSETTO:-0700
TZNAME:PDT
DTSTART:20190310T100000
END:DAYLIGHT
BEGIN:STANDARD
TZOFFSETFROM:-0700
TZOFFSETTO:-0800
TZNAME:PST
DTSTART:20191103T090000
END:STANDARD
END:VTIMEZONE
BEGIN:VEVENT
DTSTART;TZID=America/Los_Angeles:20190525T090000
DTEND;TZID=America/Los_Angeles:20190526T180000
DTSTAMP:20260424T083730
CREATED:20190429T185529Z
LAST-MODIFIED:20190429T185529Z
UID:1285-1558774800-1558893600@metroevents.com
SUMMARY:May Weekend Test Event
DESCRIPTION:Test Copy
URL:https://metroevents.com/event/may-15-test-event/
CATEGORIES:Ship Day - Pier 27
END:VEVENT
END:VCALENDAR