BEGIN:VCALENDAR
VERSION:2.0
PRODID:-//Metro Events - ECPv5.3.2.1//NONSGML v1.0//EN
CALSCALE:GREGORIAN
METHOD:PUBLISH
X-WR-CALNAME:Metro Events
X-ORIGINAL-URL:https://metroevents.com
X-WR-CALDESC:Events for Metro Events
BEGIN:VTIMEZONE
TZID:UTC
BEGIN:STANDARD
TZOFFSETFROM:+0000
TZOFFSETTO:+0000
TZNAME:UTC
DTSTART:20200101T000000
END:STANDARD
END:VTIMEZONE
BEGIN:VEVENT
DTSTART;VALUE=DATE:20200227
DTEND;VALUE=DATE:20200301
DTSTAMP:20260420T134521
CREATED:20200211T071928Z
LAST-MODIFIED:20200211T071928Z
UID:2020-1582761600-1583020799@metroevents.com
SUMMARY:Carnival Miracle
DESCRIPTION:
URL:https://metroevents.com/event/carnival-miracle-4/
CATEGORIES:Ship Day - Pier 35
END:VEVENT
END:VCALENDAR