BEGIN:VCALENDAR
VERSION:2.0
PRODID:-//Metro Events - ECPv5.3.2.1//NONSGML v1.0//EN
CALSCALE:GREGORIAN
METHOD:PUBLISH
X-WR-CALNAME:Metro Events
X-ORIGINAL-URL:https://metroevents.com
X-WR-CALDESC:Events for Metro Events
BEGIN:VTIMEZONE
TZID:UTC
BEGIN:STANDARD
TZOFFSETFROM:+0000
TZOFFSETTO:+0000
TZNAME:UTC
DTSTART:20200101T000000
END:STANDARD
TZID:America/Los_Angeles
BEGIN:DAYLIGHT
TZOFFSETFROM:-0800
TZOFFSETTO:-0700
TZNAME:PDT
DTSTART:20200308T100000
END:DAYLIGHT
BEGIN:STANDARD
TZOFFSETFROM:-0700
TZOFFSETTO:-0800
TZNAME:PST
DTSTART:20201101T090000
END:STANDARD
END:VTIMEZONE
BEGIN:VEVENT
DTSTART;VALUE=DATE:20200219
DTEND;VALUE=DATE:20200221
DTSTAMP:20260420T224621
CREATED:20200211T061022Z
LAST-MODIFIED:20200211T061022Z
UID:2018-1582070400-1582243199@metroevents.com
SUMMARY:Sony
DESCRIPTION:
URL:https://metroevents.com/event/sony/
CATEGORIES:Pier 35
END:VEVENT
BEGIN:VEVENT
DTSTART;VALUE=DATE:20200220
DTEND;VALUE=DATE:20200222
DTSTAMP:20260420T224621
CREATED:20190523T210037Z
LAST-MODIFIED:20190523T210037Z
UID:1328-1582156800-1582329599@metroevents.com
SUMMARY:Grand Princess
DESCRIPTION:
URL:https://metroevents.com/event/grand-princess-15/
CATEGORIES:Ship Day - Pier 27
END:VEVENT
END:VCALENDAR